BEGIN:VCALENDAR
VERSION:2.0
PRODID:-//Powiatowy Szkolny Związek Sportowy - ECPv6.15.20//NONSGML v1.0//EN
CALSCALE:GREGORIAN
METHOD:PUBLISH
X-ORIGINAL-URL:https://www.pszs-zywiec.pl
X-WR-CALDESC:Wydarzenia dla Powiatowy Szkolny Związek Sportowy
REFRESH-INTERVAL;VALUE=DURATION:PT1H
X-Robots-Tag:noindex
X-PUBLISHED-TTL:PT1H
BEGIN:VTIMEZONE
TZID:Europe/Warsaw
BEGIN:DAYLIGHT
TZOFFSETFROM:+0100
TZOFFSETTO:+0200
TZNAME:CEST
DTSTART:20240331T010000
END:DAYLIGHT
BEGIN:STANDARD
TZOFFSETFROM:+0200
TZOFFSETTO:+0100
TZNAME:CET
DTSTART:20241027T010000
END:STANDARD
BEGIN:DAYLIGHT
TZOFFSETFROM:+0100
TZOFFSETTO:+0200
TZNAME:CEST
DTSTART:20250330T010000
END:DAYLIGHT
BEGIN:STANDARD
TZOFFSETFROM:+0200
TZOFFSETTO:+0100
TZNAME:CET
DTSTART:20251026T010000
END:STANDARD
BEGIN:DAYLIGHT
TZOFFSETFROM:+0100
TZOFFSETTO:+0200
TZNAME:CEST
DTSTART:20260329T010000
END:DAYLIGHT
BEGIN:STANDARD
TZOFFSETFROM:+0200
TZOFFSETTO:+0100
TZNAME:CET
DTSTART:20261025T010000
END:STANDARD
END:VTIMEZONE
BEGIN:VEVENT
DTSTART;VALUE=DATE:20250918
DTEND;VALUE=DATE:20250919
DTSTAMP:20260425T125723
CREATED:20260119T100013Z
LAST-MODIFIED:20260119T100431Z
UID:5218-1758153600-1758239999@www.pszs-zywiec.pl
SUMMARY:Igrzyska dzieci - Sztafetowe biegi przełajowe DZ i CH
DESCRIPTION:
URL:https://www.pszs-zywiec.pl/kalendarz/sztafetowe-biegi-przelajowe-dz-i-ch/
LOCATION:Park Miejski w Żywcu\, ul. Wincentego Witosa 11\, Żywiec\, Żywiecki\, 34-315\, Poland
END:VEVENT
BEGIN:VEVENT
DTSTART;VALUE=DATE:20250918
DTEND;VALUE=DATE:20250919
DTSTAMP:20260425T125723
CREATED:20260119T102347Z
LAST-MODIFIED:20260119T102347Z
UID:5258-1758153600-1758239999@www.pszs-zywiec.pl
SUMMARY:Igrzyska młodzieży - Sztafetowe biegi przełajowe
DESCRIPTION:
URL:https://www.pszs-zywiec.pl/kalendarz/igrzyska-mlodziezy-sztafetowe-biegi-przelajowe/
LOCATION:Park Miejski w Żywcu\, ul. Wincentego Witosa 11\, Żywiec\, Żywiecki\, 34-315\, Poland
END:VEVENT
BEGIN:VEVENT
DTSTART;VALUE=DATE:20250918
DTEND;VALUE=DATE:20250919
DTSTAMP:20260425T125723
CREATED:20260119T104443Z
LAST-MODIFIED:20260119T104443Z
UID:5293-1758153600-1758239999@www.pszs-zywiec.pl
SUMMARY:Licealiada - Sztafetowe biegi przełajowe
DESCRIPTION:
URL:https://www.pszs-zywiec.pl/kalendarz/licealiada-sztafetowe-biegi-przelajowe/
LOCATION:Park Miejski w Żywcu\, ul. Wincentego Witosa 11\, Żywiec\, Żywiecki\, 34-315\, Poland
END:VEVENT
BEGIN:VEVENT
DTSTART;VALUE=DATE:20250923
DTEND;VALUE=DATE:20250924
DTSTAMP:20260425T125723
CREATED:20260119T104643Z
LAST-MODIFIED:20260119T104643Z
UID:5295-1758585600-1758671999@www.pszs-zywiec.pl
SUMMARY:Licealiada - Szkolna liga LA DZ + CH
DESCRIPTION:
URL:https://www.pszs-zywiec.pl/kalendarz/licealiada-szkolna-liga-la-dz-ch/
LOCATION:Stadion Wapienica Bielsko-Biała\, ulica Jaworzańska 120\, Bielsko-Biała\, Żywiecki\, 43-300\, Poland
END:VEVENT
BEGIN:VEVENT
DTSTART;VALUE=DATE:20250930
DTEND;VALUE=DATE:20251001
DTSTAMP:20260425T125723
CREATED:20260119T104717Z
LAST-MODIFIED:20260119T104717Z
UID:5298-1759190400-1759276799@www.pszs-zywiec.pl
SUMMARY:Licealiada - Tenis stołowy
DESCRIPTION:
URL:https://www.pszs-zywiec.pl/kalendarz/licealiada-tenis-stolowy/
LOCATION:SP NR 8 Żywiec/Oczków\, ul. Niezapominajki 14\, Żywiec\, Żywiecki\, 34-300\, Poland
END:VEVENT
END:VCALENDAR