BEGIN:VCALENDAR
VERSION:2.0
PRODID:-//Powiatowy Szkolny Związek Sportowy - ECPv6.15.20//NONSGML v1.0//EN
CALSCALE:GREGORIAN
METHOD:PUBLISH
X-ORIGINAL-URL:https://www.pszs-zywiec.pl
X-WR-CALDESC:Wydarzenia dla Powiatowy Szkolny Związek Sportowy
REFRESH-INTERVAL;VALUE=DURATION:PT1H
X-Robots-Tag:noindex
X-PUBLISHED-TTL:PT1H
BEGIN:VTIMEZONE
TZID:Europe/Warsaw
BEGIN:DAYLIGHT
TZOFFSETFROM:+0100
TZOFFSETTO:+0200
TZNAME:CEST
DTSTART:20240331T010000
END:DAYLIGHT
BEGIN:STANDARD
TZOFFSETFROM:+0200
TZOFFSETTO:+0100
TZNAME:CET
DTSTART:20241027T010000
END:STANDARD
BEGIN:DAYLIGHT
TZOFFSETFROM:+0100
TZOFFSETTO:+0200
TZNAME:CEST
DTSTART:20250330T010000
END:DAYLIGHT
BEGIN:STANDARD
TZOFFSETFROM:+0200
TZOFFSETTO:+0100
TZNAME:CET
DTSTART:20251026T010000
END:STANDARD
BEGIN:DAYLIGHT
TZOFFSETFROM:+0100
TZOFFSETTO:+0200
TZNAME:CEST
DTSTART:20260329T010000
END:DAYLIGHT
BEGIN:STANDARD
TZOFFSETFROM:+0200
TZOFFSETTO:+0100
TZNAME:CET
DTSTART:20261025T010000
END:STANDARD
END:VTIMEZONE
BEGIN:VEVENT
DTSTART;VALUE=DATE:20251009
DTEND;VALUE=DATE:20251010
DTSTAMP:20260420T002608
CREATED:20260119T100233Z
LAST-MODIFIED:20260119T100408Z
UID:5221-1759968000-1760054399@www.pszs-zywiec.pl
SUMMARY:Igrzyska dzieci - Tenis Stołowy DZ i CH
DESCRIPTION:
URL:https://www.pszs-zywiec.pl/kalendarz/tenis-stolowy-dz-i-ch/
LOCATION:SP NR 8 Żywiec/Oczków\, ul. Niezapominajki 14\, Żywiec\, Żywiecki\, 34-300\, Poland
END:VEVENT
BEGIN:VEVENT
DTSTART;VALUE=DATE:20251021
DTEND;VALUE=DATE:20251022
DTSTAMP:20260420T002608
CREATED:20260119T100622Z
LAST-MODIFIED:20260119T100622Z
UID:5229-1761004800-1761091199@www.pszs-zywiec.pl
SUMMARY:Igrzyska dzieci - Szachy drużynowe
DESCRIPTION:
URL:https://www.pszs-zywiec.pl/kalendarz/igrzyska-dzieci-szachy-druzynowe/
LOCATION:ZSME Żywiec\, ul. KEN 3\, Żywiec\, Zywiecki\, 34-300\, Poland
END:VEVENT
BEGIN:VEVENT
DTSTART;VALUE=DATE:20251021
DTEND;VALUE=DATE:20251022
DTSTAMP:20260420T002608
CREATED:20260119T102434Z
LAST-MODIFIED:20260119T102434Z
UID:5260-1761004800-1761091199@www.pszs-zywiec.pl
SUMMARY:Igrzyska młodzieży - Szachy drużynowe
DESCRIPTION:
URL:https://www.pszs-zywiec.pl/kalendarz/igrzyska-mlodziezy-szachy-druzynowe/
LOCATION:ZSME Żywiec\, ul. KEN 3\, Żywiec\, Zywiecki\, 34-300\, Poland
END:VEVENT
BEGIN:VEVENT
DTSTART;VALUE=DATE:20251031
DTEND;VALUE=DATE:20251101
DTSTAMP:20260420T002608
CREATED:20260119T102519Z
LAST-MODIFIED:20260119T102519Z
UID:5262-1761868800-1761955199@www.pszs-zywiec.pl
SUMMARY:Igrzyska młodzieży - Tenis stołowy DZ + CH
DESCRIPTION:
URL:https://www.pszs-zywiec.pl/kalendarz/igrzyska-mlodziezy-tenis-stolowy-dz-ch/
LOCATION:SP NR 8 Żywiec/Oczków\, ul. Niezapominajki 14\, Żywiec\, Żywiecki\, 34-300\, Poland
END:VEVENT
END:VCALENDAR