BEGIN:VCALENDAR
VERSION:2.0
PRODID:-//Powiatowy Szkolny Związek Sportowy - ECPv6.15.20//NONSGML v1.0//EN
CALSCALE:GREGORIAN
METHOD:PUBLISH
X-ORIGINAL-URL:https://www.pszs-zywiec.pl
X-WR-CALDESC:Wydarzenia dla Powiatowy Szkolny Związek Sportowy
REFRESH-INTERVAL;VALUE=DURATION:PT1H
X-Robots-Tag:noindex
X-PUBLISHED-TTL:PT1H
BEGIN:VTIMEZONE
TZID:Europe/Warsaw
BEGIN:DAYLIGHT
TZOFFSETFROM:+0100
TZOFFSETTO:+0200
TZNAME:CEST
DTSTART:20250330T010000
END:DAYLIGHT
BEGIN:STANDARD
TZOFFSETFROM:+0200
TZOFFSETTO:+0100
TZNAME:CET
DTSTART:20251026T010000
END:STANDARD
BEGIN:DAYLIGHT
TZOFFSETFROM:+0100
TZOFFSETTO:+0200
TZNAME:CEST
DTSTART:20260329T010000
END:DAYLIGHT
BEGIN:STANDARD
TZOFFSETFROM:+0200
TZOFFSETTO:+0100
TZNAME:CET
DTSTART:20261025T010000
END:STANDARD
BEGIN:DAYLIGHT
TZOFFSETFROM:+0100
TZOFFSETTO:+0200
TZNAME:CEST
DTSTART:20270328T010000
END:DAYLIGHT
BEGIN:STANDARD
TZOFFSETFROM:+0200
TZOFFSETTO:+0100
TZNAME:CET
DTSTART:20271031T010000
END:STANDARD
END:VTIMEZONE
BEGIN:VEVENT
DTSTART;VALUE=DATE:20260113
DTEND;VALUE=DATE:20260114
DTSTAMP:20260419T190527
CREATED:20260119T103413Z
LAST-MODIFIED:20260119T103413Z
UID:5277-1768262400-1768348799@www.pszs-zywiec.pl
SUMMARY:Igrzyska młodzieży - Piłka ręczna dziewcząt
DESCRIPTION:
URL:https://www.pszs-zywiec.pl/kalendarz/igrzyska-mlodziezy-pilka-reczna-dziewczat/
LOCATION:SP 1 Łodygowice\, ul. Okrężna 1\, Łodygowice\, Śląski\, 34-325\, Poland
END:VEVENT
BEGIN:VEVENT
DTSTART;VALUE=DATE:20260115
DTEND;VALUE=DATE:20260116
DTSTAMP:20260419T190527
CREATED:20260119T104937Z
LAST-MODIFIED:20260119T104937Z
UID:5302-1768435200-1768521599@www.pszs-zywiec.pl
SUMMARY:Licealiada - Siatkówka chłopców
DESCRIPTION:
URL:https://www.pszs-zywiec.pl/kalendarz/licealiada-siatkowka-chlopcow/
LOCATION:LO ZSEG Żywiec\, ul. Mickiewicza 6\, Żywiec\, Żywiecki\, 34-300\, Poland
END:VEVENT
BEGIN:VEVENT
DTSTART;VALUE=DATE:20260122
DTEND;VALUE=DATE:20260123
DTSTAMP:20260419T190527
CREATED:20260119T105024Z
LAST-MODIFIED:20260119T105024Z
UID:5305-1769040000-1769126399@www.pszs-zywiec.pl
SUMMARY:Licealiada - Siatkówka dziewcząt
DESCRIPTION:
URL:https://www.pszs-zywiec.pl/kalendarz/licealiada-siatkowka-dziewczat/
LOCATION:LO ZSEG Żywiec\, ul. Mickiewicza 6\, Żywiec\, Żywiecki\, 34-300\, Poland
END:VEVENT
BEGIN:VEVENT
DTSTART;VALUE=DATE:20260127
DTEND;VALUE=DATE:20260128
DTSTAMP:20260419T190527
CREATED:20260119T103451Z
LAST-MODIFIED:20260119T103452Z
UID:5279-1769472000-1769558399@www.pszs-zywiec.pl
SUMMARY:Igrzyska młodzieży - Piłka ręczna chłopców
DESCRIPTION:
URL:https://www.pszs-zywiec.pl/kalendarz/igrzyska-mlodziezy-pilka-reczna-chlopcow/
LOCATION:SP 1 Łodygowice\, ul. Okrężna 1\, Łodygowice\, Śląski\, 34-325\, Poland
END:VEVENT
END:VCALENDAR